BEGIN:VCALENDAR
VERSION:2.0
PRODID:-//I Am Center - ECPv6.15.20//NONSGML v1.0//EN
CALSCALE:GREGORIAN
METHOD:PUBLISH
X-WR-CALNAME:I Am Center
X-ORIGINAL-URL:https://iamcenter.is
X-WR-CALDESC:Events for I Am Center
REFRESH-INTERVAL;VALUE=DURATION:PT1H
X-Robots-Tag:noindex
X-PUBLISHED-TTL:PT1H
BEGIN:VTIMEZONE
TZID:UTC
BEGIN:STANDARD
TZOFFSETFROM:+0000
TZOFFSETTO:+0000
TZNAME:UTC
DTSTART:20240101T000000
END:STANDARD
END:VTIMEZONE
BEGIN:VEVENT
DTSTART;TZID=UTC:20250130T190000
DTEND;TZID=UTC:20250201T190000
DTSTAMP:20260424T143317
CREATED:20240809T023619Z
LAST-MODIFIED:20250131T091954Z
UID:12292-1738263600-1738436400@iamcenter.is
SUMMARY:Healing Conference with Joan Hunter
DESCRIPTION:God desires to do miracles in your life! Come and experience how real God is! \n\nSchedule:Thursday 7:00 PM-9:30 PM (Open Meeting)Friday 7:00 PM-9:30 PMSaturday 1:00 PM-3:00 PM & 7:00 PM-9:30 PM\nJoan Hunter is the conference’s keynote speaker. She shares the gospel with supernatural signs and wonders in healing schools\, miracle meetings\, conferences and churches around the world. She is sensitive to the Holy Spirit and has functioned prophetically for many years. Her goal is to train and prepare followers of Jesus to carry the healing power of God from the church into the world. You can read more about Joan and her ministry here: Joans Website \nHome \n \nYou can also purchase access to the livestream.Tickets can be purchased via Icelandic bank transfer:Kt. 440620-16700133-26-0090214.500 kr. before 16 Jan.6.500 kr. after 16 Jan.Spouses only discount – 9.500kr. for 2 tickets. \nIF YOU ARE COMING TO OUR CONFERENCE FOR THE FIRST TIME THEN WE WOULD LIKE TO INVITE YOU FOR FREE.\n\n\nCome expectant on hearing from God\, feeling his presence and experiencing miracles and healing!! \n— ÍSLENSKA — \n\nGuð þráir að gera kraftaverk í lífinu þínu! Komdu og upplifðu hversu raunverulegur Guð er! \n\n\nDagskrá:Fimmtudagur kl. 19:00-21:30 (Opin Samkoma)Föstudagur kl. 19:00-21:30Laugardagur kl. 13:00-15:00 & 19:00-21:30 \n\nÞú getur keypt miða á tilboðsverði til 16. janúar.Einnig verður hægt að kaupa aðgang að livestream.Hægt er að kaupa miða með millifærslu inn á bankareikning:Kt. 440620-16700133-26-0090214.500kr. fyrir 16. jan.6.500kr. eftir 16. jan.\nAfsláttur aðeins fyrir maka – 9.500kr. fyrir 2 miða.\n\nEF ÞÚ HEFUR ALDREI KOMIÐ Á RÁÐSTEFNU HJÁ OKKUR ÁÐUR\, ÞÁ LANGAR OKKUR AÐ BJÓÐA ÞÉR FRÍTT. \n\nJoan Hunter er aðal ræðumaður ráðstefnunar. Þegar hún flytur fagnaðarerindið fylgja undur\, tákn og stórkostlegar lækningar. Það eru magnaðir vitnisburðir frá lækningaskólum\, kraftaverkasamkomum\, ráðstefnum og kirkjum um heim allann. Hún er næm fyrir heilōgum anda og hefur þjónað spámannlega í mōrg ár. Markmið hennar er að þjálfa og undirbúa fylgjendur Jesú til að fara með fagnaðarerindið og lækningakraft Krists frá kirkjunni til heimsins. Hægt er að lesa meira um Joan og hennar þjónustu hér: https://joanhunter.org/about-joan/\n\nKomdu með eftirvæntingu eftir snertingu frá Guði! Upplifðu kærleika\, kraftaverk og lækningu hans!\n\n  \n \n 
URL:https://iamcenter.is/event/joan-hunter-healing/
END:VEVENT
END:VCALENDAR