BEGIN:VCALENDAR
VERSION:2.0
PRODID:-//I Am Center - ECPv6.15.20//NONSGML v1.0//EN
CALSCALE:GREGORIAN
METHOD:PUBLISH
X-ORIGINAL-URL:https://iamcenter.is
X-WR-CALDESC:Events for I Am Center
REFRESH-INTERVAL;VALUE=DURATION:PT1H
X-Robots-Tag:noindex
X-PUBLISHED-TTL:PT1H
BEGIN:VTIMEZONE
TZID:UTC
BEGIN:STANDARD
TZOFFSETFROM:+0000
TZOFFSETTO:+0000
TZNAME:UTC
DTSTART:20230101T000000
END:STANDARD
END:VTIMEZONE
BEGIN:VEVENT
DTSTART;TZID=UTC:20240530T190000
DTEND;TZID=UTC:20240602T213000
DTSTAMP:20260425T032052
CREATED:20240417T234924Z
LAST-MODIFIED:20240519T002629Z
UID:12118-1717095600-1717363800@iamcenter.is
SUMMARY:Matt Sorger Conference
DESCRIPTION:Schedule:\nFriday – 7:00-9:30pm \nSaturday – 1:00-3:00pm & 7:00-9:30pm \nSunday – 1:00pm (Open meeting) \nWe are excited to have Matt Sorger again in Iceland May 30th to June 2nd! Early bird ticket will be available until May 16th! You can get your tickets below! \nFor Icelanders – You can also purchase a ticket via bank transfer:\nKt. 440620-1670\n0133-26-009021 \n3.500kr. (Early bird price – before May 20th)\n4.800kr. (Full Conference) \nMatt Sorger is a prophetic minister and author who carries a unique anointing that fills entire rooms with the tangible glory of God\, with many saved\, healed\, set free and filled with God’s presence. Matt is a strong preacher and teacher of God’s word\, mentoring and equipping the body of Christ to live in the realm of God’s power and glory. He ministers the word with zeal\, passion and joy and mentors thousands of people around the world through his online mentoring program. He has impacted the globe ministering in over 35 nations and has reached over 200 nations by television and media. Matt has authored several books\, as well as taught over 50 courses that equip the believer in God’s power. Matt has appeared on Daystar\, TBN & Sid Roth’s It’s Supernatural\, among other networks. Matt is a commissioned prophet under HIM\, and sits on the Apostolic Council of Prophetic Elders with Cindy Jacobs\, James Goll and Bill Hamon. He hosts a weekly podcast through his online APP. Matt and his wife Stephanie also oversee Rescue1\, rescuing children from trafficking around the world. They currently care for over 300 children. Matt\, Stephanie and their two sons currently reside in Charlotte\, NC.
URL:https://iamcenter.is/event/matt-sorger-conference/
LOCATION:Fossaleynir 14 (Íslenska Kristskirkjan)\, Fossaleynir 14\, Reykjavik\, 112\, Iceland
ORGANIZER;CN="IAM Center":MAILTO:iamcenter@iamcenter.is
END:VEVENT
END:VCALENDAR