BEGIN:VCALENDAR
VERSION:2.0
PRODID:-//I Am Center - ECPv6.15.20//NONSGML v1.0//EN
CALSCALE:GREGORIAN
METHOD:PUBLISH
X-WR-CALNAME:I Am Center
X-ORIGINAL-URL:https://iamcenter.is
X-WR-CALDESC:Events for I Am Center
REFRESH-INTERVAL;VALUE=DURATION:PT1H
X-Robots-Tag:noindex
X-PUBLISHED-TTL:PT1H
BEGIN:VTIMEZONE
TZID:UTC
BEGIN:STANDARD
TZOFFSETFROM:+0000
TZOFFSETTO:+0000
TZNAME:UTC
DTSTART:20220101T000000
END:STANDARD
END:VTIMEZONE
BEGIN:VEVENT
DTSTART;TZID=UTC:20231214T190000
DTEND;TZID=UTC:20231216T210000
DTSTAMP:20260425T111729
CREATED:20230916T014011Z
LAST-MODIFIED:20231203T213132Z
UID:11732-1702580400-1702760400@iamcenter.is
SUMMARY:IAM Simon & Joe Braker
DESCRIPTION: \n \nDagskrá \nFimmtudagur kl. 19 (Opin samkoma)\nFöstudagur kl. 19\nLaugardagur kl. 19 \nÖll viljum við vera leidd af heilögum anda þegar við kynnumst því hversu góður hann er! Langar þig að læra hlusta og bíða eftir tímasetningu Guðs? Langar þig að fá meiri innsýn inn í hvernig maður byggir spámannlegan kúltur/samfélag í takt við Guð?\nKomdu og vertu með á frábæru móti með Simon og Joe Braker ásamt teymi þeirra frá Bretlandi. \nÞessi yndislegu hjón hafa margra ára reynslu á að þjóna Guði. Saman reka þau starfið Legacy Ministires International sem gengur út á það að hvetja\, þjálfa og virkja fólk í gjöfum sínum frá Guði og þjónustu.\nSimon er einnig leiðtogi í British Isles Council of Prophets og UK Prophetic mentoring program\, sem hefur að markimiði uppbyggingu sem skerpir færni og elur af sér heilbrigða spámenn og spámannlegar þjónustu. \nVið vitum að við munum eiga kröftugar stundir saman – Komdu væntandi eftir því hvað Guð vill opinbera fyrir þér á þessum tímum! \nVerð\nStakt kvöld – 2.700kr.\nFöstudagur + Laugardagur – 5.400kr.\nLivestream streymi – 3.500kr.\nEf greitt er fyrir 2. desember er verðið 4.000kr. \n  \nEf þú ert að kaupa miða með síma getur verið að þú þurfir að velja\n“EXIT MOBILE VERSION” þegar þú ert búinn að velja miðafjölda. \n—– ENGLISH —– \n  \nSchedule\nThursday at 7PM (Open meeting)\nFriday at 7PM\nSaturday at 7PM \nWe all want to be led by the Holy Spirit when we experience how real and good he is! Do you want to learn to listen better and wait for God’s timing? Would you like to gain more insight into how one builds a prophetic culture/community in alignment with the Holy Spirit?\nCome and join us for a great conference with Simon and Joe Braker and their team from the UK. \nThis lovely couple has many years of experience in serving God. Together\, they run Legacy Ministries International\, which aims to inspire\, train and engage people in their God-given gifts and ministry.\nSimon is also a leader in the British Isles Council of Prophets and the UK Prophetic mentoring program\, which aims to build a structure that sharpens skills and produces healthy prophets and prophetic ministries. \nWe know we will have powerful times together – Come expectant for what God wants to reveal to you during these times! \nPrice\nSingle evening – ISK 2\,700. ($20)\nFriday + Saturday – ISK 5\,400. ($40)\nLivestream streaming – ISK 2\,500. ($18)\nEARLY BIRD PRICE til December 2nd – ISK 4\,000. ($29) \nIf you are buying tickets on a phone you may need to \nclick on “EXIT MOBILE VERSION”  when you have selected what tickets you want! \nYou can also buy tickets via icelandic bank transfer.\n1187-26-552020\nkt. 440620 1670 \nIf the circumstances are such that you want to come but cannot buy a ticket\, then we would really like to bless you. Select “gift ticket” at the bottom of ticket purchase on our website or send us an email at iamcenter@iamcenter.is
URL:https://iamcenter.is/event/iam-simon-braker/
LOCATION:Háaleitisbraut 58-60 SÍK\, Háaleitisbraut 58-60\, Reykjavik\, 108\, Iceland
ORGANIZER;CN="IAM Center":MAILTO:iamcenter@iamcenter.is
END:VEVENT
END:VCALENDAR