BEGIN:VCALENDAR
VERSION:2.0
PRODID:-//I Am Center - ECPv6.15.20//NONSGML v1.0//EN
CALSCALE:GREGORIAN
METHOD:PUBLISH
X-WR-CALNAME:I Am Center
X-ORIGINAL-URL:https://iamcenter.is
X-WR-CALDESC:Events for I Am Center
REFRESH-INTERVAL;VALUE=DURATION:PT1H
X-Robots-Tag:noindex
X-PUBLISHED-TTL:PT1H
BEGIN:VTIMEZONE
TZID:Atlantic/Reykjavik
BEGIN:STANDARD
TZOFFSETFROM:+0000
TZOFFSETTO:+0000
TZNAME:GMT
DTSTART:20220101T000000
END:STANDARD
END:VTIMEZONE
BEGIN:VTIMEZONE
TZID:UTC
BEGIN:STANDARD
TZOFFSETFROM:+0000
TZOFFSETTO:+0000
TZNAME:UTC
DTSTART:20220101T000000
END:STANDARD
END:VTIMEZONE
BEGIN:VEVENT
DTSTART;TZID=Atlantic/Reykjavik:20230901T190000
DTEND;TZID=Atlantic/Reykjavik:20230901T210000
DTSTAMP:20260425T153152
CREATED:20230816T213245Z
LAST-MODIFIED:20230825T131904Z
UID:11530-1693594800-1693602000@iamcenter.is
SUMMARY:THE SEASONS OF GOD!
DESCRIPTION:  \n\n\n\n\n\n\n\nMarkmið I AM Equipping Center er að virkja gjafir og kallanir Guðs til að sjá Guðsríkið vaxa og breiðast út. Guð hefur sett gjafir og köllun innra með okkur öllum og það er spennandi vegferð að ganga með Guði\, upplifa og sjá Guð kalla fram þessar gjafir hans sem leynast innra með okkur og fá að virkjast í þeim. Það eru bæði andlegar gjafir og þjónustugjafir sem og personulegar gjafir sem við getum virkjast og vaxið í.\nSamfélagið við aðra trúaða er svo mikilvægt og það er uppörvandi að sjá Guð reisa upp gjafir innra með okkur sem hafa áhrif á landið okkar!\n‌\nVið erum mjög spennt að fá Candice Smithyman til okkar þar sem hún mun kenna\, þjóna og uppörva okkur í þeim gjöfum sem Guð hefur gefið henni. Guð hefur gefið henni sérstaka þekkingu varðandi það að lifa spámannlega í takt við hebreska dagatalið. Hún mun kenna okkur hvernig við tökum á móti þeim blessunum og hugarfarsbreytingum sem fylgja því að lifa í takt við tíðir Guðs. Hér er hægt að lesa meira um þjónustu hennar – https://candicesmithyman.com/about/\nVerð 2.500kr. Skráning á mótið fer fram með millifærslu og staðfestingu sent á iamcenter@iamcenter.is.\nKennitala 440620-1670\nReikningsnúmer 1187-26-552020\nDagskrá\nFöstudagur kl. 19:00-21:00\nLaugardagur kl. 13:00-15:00 og kl. 19:00-21:00\nSamband íslenskra kristniboðsfélaga SÍK \n\n\n\n\n\n\n\n\n\n\n\n\n\nThe mission of I AM Equipping Center is to activate the gifts and callings of God to see the Kingdom of God expand. God has placed gifts and callings within all of us\, and it is an exciting journey to walk with God\, to experience and see God calling forth these gifts that are hidden within us and to be activated in them. There are both spiritual gifts and ministry gifts as well as personal gifts that we can activate and grow in. \nCommunity with other believers is so important and it is encouraging to see God raise up gifts within us that impact the nation of Iceland. \nWe are very excited to have Dr. Candice Smithyman join us in Iceland for a powerful 2 day prophetic conference. She will teach\, minister and encourage us in the gifts God has given her. God has given her revelations about living prophetically according to the Hebrew calendar. She will teach us how to receive the blessings and mindset changes that come with living in harmony with God’s seasons. You can read more about her ministry here – https://candicesmithyman.com/about/ \nPrice is $20 for both in person and live stream access. The event will be live streamed into a closed facebook group.  \nGet your tickets at https://iamcenter.is/ \nSchedule \nFriday at 7:00-9:00pm (GMT)  \nSaturday at 1:00-3:00pm and 7:00-9:00pm (GMT) \n\n\n\nDuration: 2 days
URL:https://iamcenter.is/event/11530/
LOCATION:Hótel Kríunes & Samband íslenskra kristniboðsfélaga SÍK\, Háaleitisbraut 58-60\, Reykjavík\, 108\, Iceland
ORGANIZER;CN="IAM Center":MAILTO:iamcenter@iamcenter.is
END:VEVENT
BEGIN:VEVENT
DTSTART;TZID=Atlantic/Reykjavik:20230912T190000
DTEND;TZID=Atlantic/Reykjavik:20230912T213000
DTSTAMP:20260425T153152
CREATED:20230816T214848Z
LAST-MODIFIED:20230826T185247Z
UID:11536-1694545200-1694554200@iamcenter.is
SUMMARY:JESUS Revolution í BÍO Paradís
DESCRIPTION:Jesus Revolution í Bíóparadís 12 September kl 19:00 \nAllir velkomnir 207 miðar í boði\nmöguleiki á aukasýningum ef miðasala gengur vel. \nMiðasala á\nhttps://tix.is/is/event/16021/jesus-revolution/ \n  \nLinkur á trailer.\n \n 
URL:https://iamcenter.is/event/jesus-revolution-i-bio-paradis/
LOCATION:bíó paradís\, Hverfisgata 54\, 101 RVK\, Reykjavík\, 101\, Iceland
ORGANIZER;CN="IAM Center":MAILTO:iamcenter@iamcenter.is
END:VEVENT
BEGIN:VEVENT
DTSTART;TZID=UTC:20230929T190000
DTEND;TZID=UTC:20231001T200000
DTSTAMP:20260425T153152
CREATED:20230915T213428Z
LAST-MODIFIED:20230928T231727Z
UID:11710-1696014000-1696190400@iamcenter.is
SUMMARY:IAM Conference - Steven Springer Sept 2023
DESCRIPTION:  \nDagskrá \nFöstudagur kl. 19:00\nHótel Kríunes (Salur á neðri hæð) \nLaugardagur  kl. 13:00-15:00 og kl. 19:00\nSunnudagur kl. 20:00\nSÍK – Háaleitisbraut 58-60 (Kristniboðssalurinn. 3.hæð) \nSteven Springer heimsækir okkur helgina 29. september – 1. október. Steven og konan hans Rene eru leiðtogar hjá Global Presence Ministries í Texas. Þjónusta þeirra einblínir á að rækta samfélag sem gerir nærveru Guðs að þungamiðju alls\, með því að hvetja fólk að lifa í bæn og lofgjörð. Hjartað þeirra er að hvetja kirkjuna að ganga í takt og krafti heilags anda. Hér er hægt að skoða meira um þjónustu þeirra: https://www.globalpresence.com/\nEkki missa af þessari kröftugu ráðstefnu með spámannlegu flæði\, kennslum og uppörvun. \nHægt er að kaupa miða með því að millifæra á reikning:\n1187-26-552020\nKt. 440620 1670\n(Setja þarf nöfn í skýringu með greiðslu) \nATH ef aðstæður eru þannig að þig langi að koma en getur ekki keypt miða þá getur þú fengið gjafamiða neðst á heimasíðunni okkar undir “gift ticket”. \n—– ENGLISH —– \nFriday 7:00pm\nHótel Kríunes (Downstairs meeting hall) \nSaturday 1:00-3:00pm & 7:00pm\nSunday 8:00pm\nSÍK – Háaleitiabraut 58-60 (Kristniboðssalurinn\, 3rd floor) \nSteven Springer will be visiting us in Iceland on Septmber 29th – October 1st. Steven and his wife\, Rene are senior leaders at Global Presence Ministries in Texas. They cultivate a community that centers itself around the presence of God through a lifestyle of prayer and worship. They equip and empower the church to walk in the power of the Spirit. You can read more about their ministry here: https://www.globalpresence.com/\nWe will have a powerful time together with teachings\, impartation\, ministry time and prophetic flow! \nIt is also possible to buy ticket via icelandic bank transfer\n1187-26-552020\n440620 1670\n(Names must be included in the explanation with payment) \nNOTE if the circumstances are such that you want to come but cannot buy a ticket\, then we would like to bless you with a ticket. Please select “gift ticket” below. \n  \n\nWhy are conferences not free?  \nThe Vision and primary mission of I AM Equipping Centre is to equip the body of Christ for works of service (Ephesians 4:12).   We believe that every person who has received Christ as Saviour has been called and ordained by the Lord for works of service both within the body of Christ and in the market place. \nDoing this both efficiently and effectively requires resources plus the participation of functioning Five Fold Ministry leaders.  Both of these require a steady flow of income.  Since non of the I AM team members currently receive remuneration from the ministry\, our expenses are incurred from hiring of venues\, hosting equipping conferences and logistical expenses. \nBesides the sacrificial giving by members of the I AM team there are three other ways that we raise support for what we do. \n  \n\n Conference Fees?\n\nWe believe that the gospel is free because the price for our salvation has already been paid for through the death of Christ.  We also believe that it is the primary responsibility of the local church is to turn every new believer into a functioning disciple of Christ so that he/she can know Christ intimately through worship and prayer\, exercise faith in Christ and participate in the activities and services of the local church. \n  \nEquipping discipled Christians for works of ministry\, particularly those mentioned in Ephesians 4:11 as well as other leadership roles requires a more specialized ministry.   We believe in employing the services of men and women who already function officially in one or more of these gifts.  Because they serve the body of Christ as full-time consultants in their official capacity\, their expertize deserves full honour.   The Bible clearly instructs us not to “muzzle the ox while it is treading out the grain and the worker deserves his wages.” (1 Timothy 5:18\, 1 Corinthians 9:9). \nIt is for this reason that we charge a nominal fee to cover workbooks\, writing materials and the consultancy expenses of the speakers.
URL:https://iamcenter.is/event/steven-springer-sept-2023/
LOCATION:Hótel Kríunes & Samband íslenskra kristniboðsfélaga SÍK\, Háaleitisbraut 58-60\, Reykjavík\, 108\, Iceland
ORGANIZER;CN="IAM Center":MAILTO:iamcenter@iamcenter.is
END:VEVENT
END:VCALENDAR