BEGIN:VCALENDAR
VERSION:2.0
PRODID:-//I Am Center - ECPv6.15.20//NONSGML v1.0//EN
CALSCALE:GREGORIAN
METHOD:PUBLISH
X-WR-CALNAME:I Am Center
X-ORIGINAL-URL:https://iamcenter.is
X-WR-CALDESC:Events for I Am Center
REFRESH-INTERVAL;VALUE=DURATION:PT1H
X-Robots-Tag:noindex
X-PUBLISHED-TTL:PT1H
BEGIN:VTIMEZONE
TZID:UTC
BEGIN:STANDARD
TZOFFSETFROM:+0000
TZOFFSETTO:+0000
TZNAME:UTC
DTSTART:20190101T000000
END:STANDARD
END:VTIMEZONE
BEGIN:VEVENT
DTSTART;TZID=UTC:20230526T190000
DTEND;TZID=UTC:20230528T180000
DTSTAMP:20260424T210022
CREATED:20230314T171611Z
LAST-MODIFIED:20230324T024240Z
UID:11007-1685127600-1685296800@iamcenter.is
SUMMARY:Vision 2023 Nordic Prophetic Network
DESCRIPTION:BUY TICKETS HERE!\n \nIf you are on a MOBILE DEVICE\, please click “Exit Mobile Version” to purchase tickets location on the bottom of your screen.
URL:https://iamcenter.is/event/vision-2023-nordic-prophetic-network/
LOCATION:Smárakirkja Sporhamrar\, Sporhamrar 3\, Reykjavík\, 112\, Iceland
ATTACH;FMTTYPE=image/png:https://iamcenter.is/wp-content/uploads/2023/03/Vision-2023-2160x1080px.png
END:VEVENT
BEGIN:VEVENT
DTSTART;VALUE=DATE:20210101
DTEND;VALUE=DATE:20210102
DTSTAMP:20260424T210022
CREATED:20200129T045846Z
LAST-MODIFIED:20200129T050108Z
UID:8916-1609459200-1609545599@iamcenter.is
SUMMARY:Starting the Year Right
DESCRIPTION:Prophetic Conference with Emma Stark
URL:https://iamcenter.is/event/starting-the-year-right/
LOCATION:I Am Equipping Center\, Ármúla 40\, Reykjavík\, Iceland
ATTACH;FMTTYPE=image/jpeg:https://iamcenter.is/wp-content/uploads/2016/02/mt_exodos_pic6.jpg
END:VEVENT
BEGIN:VEVENT
DTSTART;TZID=UTC:20200320T200000
DTEND;TZID=UTC:20200322T235900
DTSTAMP:20260424T210022
CREATED:20200129T042510Z
LAST-MODIFIED:20200309T073031Z
UID:8905-1584734400-1584921540@iamcenter.is
SUMMARY:Prophetic Conference  in Iceland
DESCRIPTION:Into Iceland Out Of Iceland \nWe are hosting a conference and having 25 guests from around the world coming to minister in Iceland and share their faith and walk in God with us. Visits from Denmark Finland\, Sweden\, USA\, Ghana\, Mexico to name a few. Come visit us and get personal prophetic ministry and hear what the Apostolic & Prophetic people from around the world will be sharing with us. \nSpeakers \nAkua Andrade – USA /Ghana \nPernille Liland – Denmark \nTunturipuro Nonna Johanna – Finland / Helsingi \nJohanna Sewon – Sweden \nBenedikt Vigfússon – Iceland \nBjarki Clausen – Iceland
URL:https://iamcenter.is/event/prophetic-conference-in-iceland/
LOCATION:I Am Equipping Center\, Ármúla 40\, Reykjavík\, Iceland
ATTACH;FMTTYPE=image/jpeg:https://iamcenter.is/wp-content/uploads/2020/01/Iceland-Conference-20-March.jpg
END:VEVENT
END:VCALENDAR