BEGIN:VCALENDAR
VERSION:2.0
PRODID:-//I Am Center - ECPv6.15.20//NONSGML v1.0//EN
CALSCALE:GREGORIAN
METHOD:PUBLISH
X-ORIGINAL-URL:https://iamcenter.is
X-WR-CALDESC:Events for I Am Center
REFRESH-INTERVAL;VALUE=DURATION:PT1H
X-Robots-Tag:noindex
X-PUBLISHED-TTL:PT1H
BEGIN:VTIMEZONE
TZID:UTC
BEGIN:STANDARD
TZOFFSETFROM:+0000
TZOFFSETTO:+0000
TZNAME:UTC
DTSTART:20250101T000000
END:STANDARD
END:VTIMEZONE
BEGIN:VEVENT
DTSTART;TZID=UTC:20260205T190000
DTEND;TZID=UTC:20260207T210000
DTSTAMP:20260423T223541
CREATED:20260122T131320Z
LAST-MODIFIED:20260130T005341Z
UID:12803-1770318000-1770498000@iamcenter.is
SUMMARY:The Power in His Voice!
DESCRIPTION:DAGSKRÁ\n5-7. FebrúarFimmtudagur kl. 19-21 (Opin samkoma)Föstudagur kl. 19-21 (Opin samkoma)Laugardagur kl. 13-15 og 19-21 \nKomdu og vertu með á frábærri ráðstefnu með Simon og Joe Braker frá Bretlandi.Þessi yndislegu hjón hafa margra ára reynslu á að þjóna Guði. Saman reka þau starfið Legacy Ministires International sem gengur út á það að hvetja\, þjálfa og virkja fólk í gjöfum sínum frá Guði og þjónustu.Einnig eru þau leiðtogar UK Prophetic mentoring program\, sem hefur að markimiði uppbyggingu sem skerpir færni og elur af sér heilbrigða spámenn og spámannlegar þjónustu.Við vitum að við munum eiga kröftugar stundir saman – Komdu væntandi eftir því hvað Guð vill opinbera fyrir þér á þessum tímum! \n\nVERÐÖll ráðstefnan (Laugardagurinn) – 4.000kr. Hjón – 6.000kr.Livestream aðgangur – 4.000kr. \n\n\nEinnig er hægt að kaupa miða með millifærslu.Kt. 440620-16700133-26-009021 \n\n\nEf aðstæður eru þannig að þig langi að koma en getur ekki keypt miða að þá langar okkur að blessa þig. Sendu okkar tölvupóst á iamcenter@iamcenter.is \n  \n—- ENGLISH —- \n\n\n  \nSCHEDULE\nFebruary 5-7th.Thursday at 19 (Open meeting)Friday at 19 (Open meeting)Saturday at 13-15 and 19-21 \n\n\nCome and join us for a great conference with Simon and Joe Braker from the UK.This lovely couple has many years of experience in serving God. Together\, they run Legacy Ministries International\, which aims to inspire\, train and engage people in their God-given gifts and ministry.They are also the leaders of the UK Prophetic mentoring program\, which aims to build a structure that sharpens skills and produces healthy prophets and prophetic ministries.We know we will have powerful times together – Come expectant for what God wants to reveal to you during these times! \n\n\nPRICEThe entire conference (Saturday) – 4.000 ISKSpouses discount – 6.000 ISKLivestream access – 4.000 ISK \n\n\nYou can also buy tickets via Icelandic bank transfer:Kt. 440620-16700133-26-009021 \n\nIf the circumstances are such that you want to come but cannot buy a ticket\, we would like to bless you. Send us an email at iamcenter@iamcenter.is
URL:https://iamcenter.is/event/the-power-in-his-voice/
LOCATION:Armuli 10\, Ármúli 10\, Reykjavík\, 108\, Iceland
END:VEVENT
BEGIN:VEVENT
DTSTART;TZID=UTC:20260319T080000
DTEND;TZID=UTC:20260322T170000
DTSTAMP:20260423T223541
CREATED:20260122T131704Z
LAST-MODIFIED:20260307T235740Z
UID:12805-1773907200-1774198800@iamcenter.is
SUMMARY:Finding God in the Secret Place with Ana Werner
DESCRIPTION:Schedule:\nThursday18:30 House opens19:00-21:30 Evening service \nFriday18:30 House opens19:00-21:30 Evening service \nSaturday10:30 House opens11:00-13:00 (Prophetic art class)13:00-13:50 Lunch break (Soup for sale)14:00-16:00 (Teaching on soul ties and raising supernatural and discerning kids)\n18:30 House opens\n19:00-21:30 Evening service \nSunday\n14:30 House opens\n15:00 Sunday service – OPEN MEETING (No registration) \nPrices\nFull Conference: 5000kr. ($40)\nLivestream access: 5000kr. ($40)\nCouples Discount: 8000kr. ($64)\n18 years and younger get free access. \nLIMITED SEATS AVAILABLE – REGISTER HERE BELOW \nJoin us for a powerful weekend in Iceland with Ana Werner\, Courtney Witt and Kate Ranstrom as they teach\, train\, and equip us to walk in alignment with God and His purposes for our lives. Teaching will be in English with Icelandic translation. \nAna Werner moves in the prophetic and healing gifts. She is a Seer who teaches on seeing in the supernatural with Jesus in churches around the world. Ana is an inspiring author and speaker\, and her transparency as she shares about her encounters and experiences in Heaven consistently ushers in the presence of the Holy Spirit and the power of God. Healing\, signs\, and wonders follow her ministry. \nCourtney Witt will be teaching on finding freedom from soul ties and will also touch on the topic of raising supernatural kids – encouraging families to cultivate an environment where children can grow in hearing God and walking in discernment. \nKate Ranstrom will lead a prophetic art session\, equipping participants to hear the voice of God and express what He speaks or shows through drawing or painting. You do not need to be an experienced artist to participate in this session. All supplies will be included. \nThe prophetic is a powerful gift that helps align our hearts with the plans and purposes of God. When we hear His voice\, we receive clarity\, direction\, encouragement\, and renewed hope. The prophetic awakens a deeper hunger for God and invites us into a closer relationship with Him\, reminding us that He is still speaking and actively guiding His people today.Come expectant for a weekend of encountering God\, receiving fresh vision and being equipped to walk more closely with Him!
URL:https://iamcenter.is/event/prophetic-healing-conference-ana-werner/
LOCATION:Ármuli 10\, 2nd floor\, Ármúli 10\, 2nd floor\, Reykjavík\, 108\, Iceland
ORGANIZER;CN="IAM Center":MAILTO:iamcenter@iamcenter.is
END:VEVENT
END:VCALENDAR