BEGIN:VCALENDAR
VERSION:2.0
PRODID:-//I Am Center - ECPv6.15.20//NONSGML v1.0//EN
CALSCALE:GREGORIAN
METHOD:PUBLISH
X-ORIGINAL-URL:https://iamcenter.is
X-WR-CALDESC:Events for I Am Center
REFRESH-INTERVAL;VALUE=DURATION:PT1H
X-Robots-Tag:noindex
X-PUBLISHED-TTL:PT1H
BEGIN:VTIMEZONE
TZID:UTC
BEGIN:STANDARD
TZOFFSETFROM:+0000
TZOFFSETTO:+0000
TZNAME:UTC
DTSTART:20240101T000000
END:STANDARD
END:VTIMEZONE
BEGIN:VEVENT
DTSTART;TZID=UTC:20251205T190000
DTEND;TZID=UTC:20251206T190000
DTSTAMP:20260423T210839
CREATED:20250611T114822Z
LAST-MODIFIED:20251126T122652Z
UID:12693-1764961200-1765047600@iamcenter.is
SUMMARY:Kingdom Come Conference with Dr. Arleen and Dick Westerhof
DESCRIPTION:  \n\n\nDecember 5–6\, Reykjavík\, Iceland\nLocation: Íslenska KristskirkjanAddress: Fossaleynir 14\, Reykjavík\, Iceland \nJoin us for a transformative two-day conference focused on equipping believers to walk in their God-given calling and advancing the Kingdom of God in every sphere of life! \nAbout Dr. Arleen and Dick Westerhof\nDr. Arleen Westerhof\, together with her husband Dick Westerhof\, serves as the Lead Pastor of God’s Embassy Church in Amsterdam. Since its founding in 2005\, the church has grown into a vibrant\, cutting-edge Apostolic Center known for its anointing for Reformation and Transformation. \nArleen is an internationally sought-after speaker and the founder of the Netherlands Prophetic Council. She also established the Living In Your Destiny Schools of the Prophets\, offering comprehensive prophetic training that empowers believers to develop and apply their prophetic gifts within the church and throughout society. \nShe is also the founder of the Economic Summit\, an initiative focused on releasing God-inspired solutions to global economic challenges. \nWith a Ph.D. in chemistry and experience in business\, ministry\, education\, and consulting\, Arleen brings a rare blend of prophetic insight and practical wisdom. She is passionate about training people to recognize and respond to God’s voice in their lives\, organizations\, and cities. Her balanced teaching and prophetic clarity have positioned her as a trusted advisor to leaders worldwide. \nArleen and her husband Dick reside in Amsterdam\, Netherlands. \nConference Schedule\nDecember 5th – Friday:7:00 PM – OPEN MEETING\nDecember 6th – Saturday:1:00-4:00 PM – Day sessions (registration needed)7:00 PM – OPEN MEETING\nPricing\nIndividual: 3.500 krSpouses discount: 6.000 kr\nLivestream access: 3.500kr  \nRegistration\nGet your tickets here below or you can also buy your ticket via Icelandic bank transfer (Please put your name in the description): \nKt. 440620-1670 \n0133 26 009021 \n\n\n\n\n\n— ÍSLENSKA —\n\n\n  \n\n\nKingdom Come ráðstefnan með Dr. Arleen og Dick Westerhof\n5.–6. desember\, Reykjavík\, Ísland \nStaðsetning: Íslenska KristskirkjanHeimilisfang: Fossaleynir 14\, Reykjavík\, Ísland \nVertu með á öflugri tveggja daga ráðstefnu sem hjálpar fólki að ganga í köllun sinni frá Guði og stuðlar að uppbyggingu Guðs ríkis í öllum þáttum daglegs lífs.\nUm Dr. Arleen og Dick Westerhof\nDr. Arleen Westerhof\, ásamt eiginmanni sínum Dick Westerhof leiða God’s Embassy Church í Amsterdam. Frá stofnun safnaðarins árið 2005 hefur hann vaxið og þróast í líflegt postullegt miðstöðvarstarf\, þekkt fyrir smurningu sína til umbreytingar og endurnýjunar. \nArleen ferðast mikið og talar reglulega á ráðstefnum út um allann heim og er stofnandi Netherlands Prophetic Council. Hún stofnaði einnig Living In Your Destiny Schools of the Prophets\, sem bjóða upp á öfluga spámannlega þjálfun og styrkja trúaða til að virkjast í gjöfum sínum bæði innan kirkjunnar og út í samfélagið. \nHún er jafnframt stofnandi Economic Summit\, framtaks sem leitast við að koma með Guðs lausnir við hnattrænum efnahagsáskorunum. \nMeð doktorsgráðu í efnafræði og reynslu á sviði viðskipta\, þjónustu\, menntunar og ráðgjafar\, sameinar Arleen einstaka spámannlega innsýn og hagnýta visku. Hún brennur fyrir því að þjálfa fólk til að þekkja og bregðast við rödd Guðs í lífi sínu\, störfum og borgum. Boðskapur hennar eru bæði kraftmikill og skýr og og hún nýtur mikils trausts meðal leiðtoga um allan heim. \nArleen og Dick búa í Amsterdam í Hollandi. \nDagskrá\n5. desember – Föstudagskvöld:kl. 19:00 – OPIN SAMKOMA FRÍTT INN\n6. desember – Laugardagur:kl. 13:00 -16:00 – Samkomur yfir daginn (skráning er nauðsynleg)kl. 19 – OPIN SAMKOMA\nVerð\nEinstaklingur: 3.500 krHjónaafsláttur: 6.000 kr\nLivestream aðgangur: 3.500kr \nSkráning\nHægt er að kaupa miða hér fyrir neðan\, eða þú getur einnig keypt miða með millifærslu inn á reikning (vinsamlegast settu nafnið þitt í skýringu): \nKt.: 440620-1670Reikningur: 0133-26-009021
URL:https://iamcenter.is/event/dick-and-arleen-westerhof/
LOCATION:Fossaleynir 14 (Íslenska Kristskirkjan)\, Fossaleynir 14\, Reykjavik\, 112\, Iceland
CATEGORIES:Conferences in Iceland
END:VEVENT
BEGIN:VEVENT
DTSTART;VALUE=DATE:20250918
DTEND;VALUE=DATE:20250921
DTSTAMP:20260423T210839
CREATED:20250307T115825Z
LAST-MODIFIED:20250811T182403Z
UID:12634-1758153600-1758412799@iamcenter.is
SUMMARY:Healing School and Conference with Joan Hunter
DESCRIPTION:SCHEDULE\nThursday Sept. 18th 7pm / Healing & Miracle service\nFriday Sept. 19th 10am\, 2pm\, 7pm / Healing School\nSaturday Sept. 20th 10am\, 2pm\, 7pm / Healing School\nSunday Sept. 21st 5pm / Healing & Miracle service\nLunch breaks are at 12:30pm and Dinner breaks are at 4:30pm (allowing flexibility in case the sessions run over 15-20 mins) \nEvening services are open to everyone and FREE all 4 nights at 7pm Thursday to Saturday and at 5pm on Sunday. \nFOR THOSE ATTENDING THE HEALING SCHOOL\nYou need to register for the healing school and purchase tickets here below. As part of the healing school you will need to read 3 books before the school\, and listen to 12 hours of DVD or online teachings and you will have access to all the day time sessions with Joan. \nDVD/ONLINE TEACHINGS\nThis is a 6 DVD/ONLINE package containing 12 Hours of in depth teaching with a live audience.\nPLEASE NOTE YOU CAN LISTEN WITH OTHERS WHO ARE ATTENDING THE SCHOOL AND IN THAT WAY SPLIT THE COST OF THE ONLINE TEACHINGS.\nClick the link below to purchase:\nHealing Starts Now! Advanced Teaching 12 HR \nBOOKS\nYou can buy the 3 books in our IAM Thursday meetings in Iceland or order them on the links below. \nThe books 3 are: \nHEALING THE WHOLE MAN:\nHealing the Whole Man Handbook\nHEALING STARTS NOW\nHealing Starts Now! Expanded Edition\nPOWER TO HEAL\nPower to Heal \nWHY ORDINATION?\nOrdination is an empowering step in your walk with the Lord. It is a statement of consecration to this world\, that you have chosen and have been chosen to live your life in service of Christ Jesus.\nJesus calls us to live our life according to His Word and by being ordained you will: \n\nRecognize and confirm that an individual has been called by God to the ministry\nAcknowledge that the individual has undergone a period of discernment\nReceive training related to this calling. Authorizes that individual to take on the responsibility of ministering to the 4 corners of the earth\n\nWhile they were worshiping as priests before the Lord in prayer and fasting\, the Holy Spirit said\, “I have called Barnabas and Saul to do an important work for me. Now\, release them to go and fulfill it.” 3 So after they had fasted and prayed\, they laid hands on them and sent them off. (Acts 13:2 TPT) \nWHAT IS GOD CALLING YOU TO DO? \nThe Complete Healing School with Ordination is a huge part of the vision for Joan Hunter Ministries. Joan wants to see people trained\, equipped and released into their calling. She wants them to be confident\, knowing how to pray for people\, see Miracles Happen\, and always give God ALL the glory!\nIsn’t it obvious that all runners on the racetrack keep on running to win\, but only one receives the victor’s prize? Yet each one of you must run the race to be victorious. (1 Cor 9:24 TPT) \nWHAT YOU WILL LEARN\n\nWith Joan Hunter Ministries you will know how to take the healing power of God beyond the 4 walls of the church and into the 4 corners of the earth. We will equip you to see signs\, wonders and miracles happen by: \n\nopening your eyes to see the needs around you\nteaching you how to be effective in prayers and action\ngiving you a proven process to be effective in the healing ministry\nbuilding/developing your ministry\nexpanding support of your ministry\n\n\nWHAT YOU WILL RECEIVE\n\n\n\n\n\n\nlearning more than 40 years of hands on real life experience\npractical application\nsupernatural authority\nBiblical revelation\nimpartation of passion and compassion\nanointing service with Joan\nopportunity to ask Joan and the ministry team questions\n\n\n\n\n\n\nJoan Hunter – along with her parents Charles and Frances Hunter (The Happy Hunters) – has been a pioneer and leader in healing ministry for more than 45 years. In the Healing Starts Now course\, you will receive a wealth of information all of which has the power to change your life\, and the lives of others\, forever. Joan will be sharing keys on healing in five areas – body\, mind\, soul\, spirit and finances. All the insights she shares are proven keys to breakthrough discovered through her own journey of healing. \nPRICELIST FOR HEALING SCHOOL (ALL EVENING SERVICES ARE FREE)\n$290 – Regular ticket + lunch (no books included)\n$390 – Regular ticket + lunch + ordination (no books included)\nSpouses Discount – Half price for the 2nd person. Please contact iamcenter411@gmail.com for more information on how to purchase these spouses discount ticket. \nPlease note: You will need to purchase the books at the Thursday IAM meetings in Reykjavík if you are in Iceland or on Joans website if you are abroad (see links above).
URL:https://iamcenter.is/event/joan-hunter-healing-school/
CATEGORIES:Conferences in Iceland
END:VEVENT
END:VCALENDAR